BEGIN:VCALENDAR
VERSION:2.0
PRODID:-//Curandero.love - ECPv6.15.20//NONSGML v1.0//EN
CALSCALE:GREGORIAN
METHOD:PUBLISH
X-ORIGINAL-URL:https://resolute-leopard-f48e03.instawp.site
X-WR-CALDESC:Events for Curandero.love
REFRESH-INTERVAL;VALUE=DURATION:PT1H
X-Robots-Tag:noindex
X-PUBLISHED-TTL:PT1H
BEGIN:VTIMEZONE
TZID:UTC
BEGIN:STANDARD
TZOFFSETFROM:+0000
TZOFFSETTO:+0000
TZNAME:UTC
DTSTART:20220101T000000
END:STANDARD
END:VTIMEZONE
BEGIN:VEVENT
DTSTART;TZID=UTC:20231231T160000
DTEND;TZID=UTC:20231231T200000
DTSTAMP:20260425T213451
CREATED:20231214T152015Z
LAST-MODIFIED:20231214T162025Z
UID:3993-1704038400-1704052800@resolute-leopard-f48e03.instawp.site
SUMMARY:Zlatno Doba - Svitanje Zlatne Zore
DESCRIPTION:Drago pleme i porodico\,  pozivam vas na Decembarski specijal u kom ćemo raditi kobinaciju nekoliko veoma bitnih i funkcionalnih tehnika koje meni već godinama menjaju i ulepšavaju život oplemenjujući ga iznova i iznova. Ovo znanje želim da podelim sa vama kako bi se multipliralo i raslo zajedno sa vama. Svako znanje koje se ne deli je “mrtvo” znanje i samim tim nema težinu\, dok znanje koje se deli raste i razvija\, upotpunjava se.\nNa ovaj način aplificirajući moć manifestacije stvorićemo Novo Zlatno Doba za nas i sve one oko nas. \n \n-Sam događaj započinjemo idejom šta je to Moć Manifestacije i kako na što delotvorniji način kreirati svo život po meri koju istinski zaslužujemo. \n(U ovom delu dajemo sebi dozvolu da osvestimo i osetimo šta je to što naša duša pre svega želi. Mnogo puta mislimo da znamo šta nam treba a zaboravljamo da se konsultujemo sa svojom dušom i esencijom našeg postojanja .) \n-Mandala života kao neizostvni deo koji svake godine ponavljam i iskreno iz godine u godinu postaje jača i jača. \n(Mandala života nas uči šta znači Quechua izraz “Ayni”i kako život recipročno teče u krug) \n-Veče ćemo nastaviti sa Kakao ceremonijom i vođenom meditacijom \n(Kakao i meditacija nas vode u duboke tunele našeg postojanja pa sve do izvora svetlosti i mira iz kog stvaramo lako i bez napora\, božanski) \n–Zvučnim putovanjem koje nam pomaže da uđemo u svoje postojanje i osvestimo energiju koju živimo. \n(Zvučno putovanje će nam pomoći da oživimo i proživimo ono što dolazi da bi nam bilo lakše da manifestujemo svoju realnost onako kako mi to vidimo kroz oči Anđela) \nCena učešća za sam događaj je 50 eura i prva polovina se uplaćuje unapred kao avans za rezervaciju Vašeg mesta..\nBroj mesta je ograničen a rok za vaše prijave je do 22 Decembra do ponoći. \nSve prijave slati na  \n\n\n\nLink za prijavu\n\n\n  \n  \nS ljubavlju \nIvan Curandero \n\n\n\nPuno srdačnih pozdrava \nIvan Curandero \n\n\n\n 
URL:https://resolute-leopard-f48e03.instawp.site/event/zlatno-doba-svitanje-zlatne-zore/
LOCATION:Curandero.center\, Karađorđev trg 9\, Belgrade\, Belgrade\, 11080\, Serbia
CATEGORIES:Manifestacije
ORGANIZER;CN="Ivan Nikitovic":MAILTO:curandero.shop@gmail.com
END:VEVENT
END:VCALENDAR